BEGIN:VCALENDAR
VERSION:2.0
PRODID:-// - ECPv4.9.3.1//NONSGML v1.0//EN
CALSCALE:GREGORIAN
METHOD:PUBLISH
X-ORIGINAL-URL:http://dheivamurasu.org
X-WR-CALDESC:Events for 
BEGIN:VEVENT
DTSTART;TZID=UTC+0:20210815T103000
DTEND;TZID=UTC+0:20210815T103000
DTSTAMP:20260423T033233
CREATED:20210815T103046Z
LAST-MODIFIED:20210811T132911Z
UID:5188-1629023400-1629023400@dheivamurasu.org
SUMMARY:திருமூல நாயனாரும் திருவள்ளுவ நாயனாரும்
DESCRIPTION:\n\n\n \n\n\n\n
URL:http://dheivamurasu.org/event/%e0%ae%89%e0%ae%b2%e0%ae%95%e0%ae%a4%e0%af%8d-%e0%ae%a4%e0%ae%bf%e0%ae%b0%e0%af%81%e0%ae%95%e0%af%8d%e0%ae%95%e0%af%81%e0%ae%b1%e0%ae%b3%e0%af%8d-%e0%ae%95%e0%af%82%e0%ae%9f%e0%af%8d%e0%ae%9f%e0%ae%ae/
END:VEVENT
END:VCALENDAR